BEGIN:VCALENDAR
VERSION:2.0
PRODID:-//ChamberMaster//Event Calendar 2.0//EN
METHOD:PUBLISH
X-PUBLISHED-TTL:P3D
REFRESH-INTERVAL:P3D
CALSCALE:GREGORIAN
BEGIN:VEVENT
DTSTART:20141010T183000Z
DTEND:20141010T200000Z
X-MICROSOFT-CDO-ALLDAYEVENT:FALSE
SUMMARY:Chamber Luncheon
DESCRIPTION:
X-ALT-DESC;FMTTYPE=text/html:
LOCATION:Your opportunity to hear from candidates in the 31st Legislative District as they answer questions about topics that impact our businesses. Friday\, October 10th\, 2014 11:30am-1:00pm (Doors Open at 11:00am) Best Western Premier Plaza Hotel & Conference Center South Hill 620 S Hill Park Dr\, Puyallup\, WA 98373. Pre-registration for Members and Non-members will be open until 5:00 pm\, October 9th\, 2014. At the door admissions $25.00 for Chamber Members and $30.00 for non members!
UID:e.101.6487
SEQUENCE:3
DTSTAMP:20260425T012447Z
URL:https://business.puyallupsumnerchamber.com/events/details/chamber-luncheon-10-10-2014-6487
END:VEVENT

END:VCALENDAR
