BEGIN:VCALENDAR
VERSION:2.0
PRODID:-//ChamberMaster//Event Calendar 2.0//EN
METHOD:PUBLISH
X-PUBLISHED-TTL:P3D
REFRESH-INTERVAL:P3D
CALSCALE:GREGORIAN
BEGIN:VEVENT
DTSTART:20141212T193000Z
DTEND:20141212T210000Z
X-MICROSOFT-CDO-ALLDAYEVENT:FALSE
SUMMARY:Chamber Luncheon-US Open
DESCRIPTION:Puyallup Sumner Chamber of Commerce Monthly Luncheon
X-ALT-DESC;FMTTYPE=text/html:<div style="text-align: center\;">Puyallup Sumner Chamber of Commerce Monthly Luncheon</div>\n
LOCATION:Find out how the Chamber is connecting local businesses with visitors to the world class event in June. Learn about the economic impact to the region for 2015 and beyond. Pat McCarthy\, Pierce County Executive \, will be giving us an update on the preparations the county has been working on for this event.
UID:e.101.6489
SEQUENCE:3
DTSTAMP:20260424T220150Z
URL:https://business.puyallupsumnerchamber.com/events/details/chamber-luncheon-us-open-12-12-2014-6489
END:VEVENT

END:VCALENDAR
