BEGIN:VCALENDAR
VERSION:2.0
PRODID:-//ChamberMaster//Event Calendar 2.0//EN
METHOD:PUBLISH
X-PUBLISHED-TTL:P3D
REFRESH-INTERVAL:P3D
CALSCALE:GREGORIAN
BEGIN:VEVENT
DTSTART:20181006T200000Z
DTEND:20181006T220000Z
X-MICROSOFT-CDO-ALLDAYEVENT:FALSE
SUMMARY:Cheers to 30
DESCRIPTION:We are celebrating 30 years of memories and community partnerships. \n\n\n\nJoin us for family fun\, food\, giveaways and (of course) cake. We're partnering with 98.9 the Bull for acoustic entertainment from Maile Mae\, Lowdown Drifters\, and Brian James.
X-ALT-DESC;FMTTYPE=text/html:<strong><span style="color:rgb(29\, 33\, 41)\; font-family:helvetica\,arial\,sans-serif\; font-size:14px">We are celebrating 30 years of memories and community partnerships.&nbsp\;</span><br />\n<br />\n<span style="color:rgb(29\, 33\, 41)\; font-family:helvetica\,arial\,sans-serif\; font-size:14px">Join us for family fun\, food\, giveaways and (of course) cake. We&#39\;re partnering with 98.9 the Bull for acoustic entertainment from Maile Mae\, Lowdown Drifters\, and Brian James.</span></strong>
LOCATION:South Hill Mall Puyallup\, WA
UID:e.101.9582
SEQUENCE:3
DTSTAMP:20260421T101333Z
URL:https://business.puyallupsumnerchamber.com/events/details/cheers-to-30-9582
END:VEVENT

END:VCALENDAR
