BEGIN:VCALENDAR
VERSION:2.0
PRODID:-//ChamberMaster//Event Calendar 2.0//EN
METHOD:PUBLISH
X-PUBLISHED-TTL:P3D
REFRESH-INTERVAL:P3D
CALSCALE:GREGORIAN
BEGIN:VEVENT
DTSTART:20140326T141500Z
DTEND:20140326T160000Z
X-MICROSOFT-CDO-ALLDAYEVENT:FALSE
SUMMARY:CIS of Puyallup's 9th Annual "Friendraiser" Breakfast\, Auction and Raffle
DESCRIPTION:"Planting Seeds of Success"\n\nAwards Presented:\n\nStudent Citizen of the Year\n\nEducator of the Year\n\nVolunteer of the Year\n\n \n\nBreakfast Buffet by Choice Catering
X-ALT-DESC;FMTTYPE=text/html:<div style="background: none repeat scroll 0% 0% rgb(238\, 238\, 238)\; border: 1px solid rgb(204\, 204\, 204)\; padding: 5px 10px\; text-align: center\;"><span style="font-size:20px\;"><span style="font-family: arial\;"><span style="font-size:24px\;"><span style="font-family: times new roman\;">&quot\;Planting Seeds of Success&quot\;</span></span><br />\nAwards Presented:<br />\nStudent Citizen of the Year<br />\nEducator of the Year<br />\nVolunteer of the Year</span></span></div>\n\n<div style="background: none repeat scroll 0% 0% rgb(238\, 238\, 238)\; border: 1px solid rgb(204\, 204\, 204)\; padding: 5px 10px\; text-align: center\;">&nbsp\;</div>\n\n<div style="background: none repeat scroll 0% 0% rgb(238\, 238\, 238)\; border: 1px solid rgb(204\, 204\, 204)\; padding: 5px 10px\; text-align: center\;"><big>Breakfast Buffet by Choice Catering</big></div>\n
LOCATION:Washington State Fair - Pavilion Entrance: Gold Gate Parking: Gold Lot
UID:e.101.6469
SEQUENCE:3
DTSTAMP:20260425T142840Z
URL:https://business.puyallupsumnerchamber.com/events/details/cis-of-puyallup-s-9th-annual-friendraiser-breakfast-auction-and-raffle-03-26-2014-6469
END:VEVENT

END:VCALENDAR
