BEGIN:VCALENDAR
VERSION:2.0
PRODID:-//ChamberMaster//Event Calendar 2.0//EN
METHOD:PUBLISH
X-PUBLISHED-TTL:P3D
REFRESH-INTERVAL:P3D
CALSCALE:GREGORIAN
BEGIN:VEVENT
DTSTART:20180907T173000Z
DTEND:20180907T193000Z
X-MICROSOFT-CDO-ALLDAYEVENT:FALSE
SUMMARY:CIS School Supply Drive at the WA State Fair
DESCRIPTION:FREE admission to the WA State Fair from 10:30am - 12:30pm\n\nwith a high need school supply donation to benefit Communities In Schools.
X-ALT-DESC;FMTTYPE=text/html:<p style="margin-left:0px\; margin-right:0px\; text-align:left"><strong>FREE admission to the WA State Fair</strong> from 10:30am - 12:30pm<br />\nwith a high need&nbsp\;school supply donation to benefit Communities In Schools.</p>\n
LOCATION:
UID:e.101.9377
SEQUENCE:3
DTSTAMP:20260423T085227Z
URL:https://business.puyallupsumnerchamber.com/events/details/cis-school-supply-drive-at-the-wa-state-fair-9377
END:VEVENT

END:VCALENDAR
