BEGIN:VCALENDAR
VERSION:2.0
PRODID:-//ChamberMaster//Event Calendar 2.0//EN
METHOD:PUBLISH
X-PUBLISHED-TTL:P3D
REFRESH-INTERVAL:P3D
CALSCALE:GREGORIAN
BEGIN:VEVENT
DTSTART:20180511T183000Z
DTEND:20180511T193000Z
X-MICROSOFT-CDO-ALLDAYEVENT:FALSE
SUMMARY:City MD Ribbon Cutting
DESCRIPTION:Ribbon Cutting ceremony for the City MD - Urgent Care
X-ALT-DESC;FMTTYPE=text/html:Ribbon Cutting ceremony for the City MD - Urgent Care&nbsp\;
LOCATION:12005 Meridian St East\, Suite 101 Puyallup\, WA\, 98375
UID:e.101.8959
SEQUENCE:3
DTSTAMP:20260421T090922Z
URL:https://business.puyallupsumnerchamber.com/events/details/city-md-ribbon-cutting-05-11-2018-8959
END:VEVENT

END:VCALENDAR
