BEGIN:VCALENDAR
VERSION:2.0
PRODID:-//ChamberMaster//Event Calendar 2.0//EN
METHOD:PUBLISH
X-PUBLISHED-TTL:P3D
REFRESH-INTERVAL:P3D
CALSCALE:GREGORIAN
BEGIN:VEVENT
DTSTART:20181006T143000Z
DTEND:20181006T163000Z
X-MICROSOFT-CDO-ALLDAYEVENT:FALSE
SUMMARY:Come Walk With Me
DESCRIPTION:Join the Chamber Peeps Team!
X-ALT-DESC;FMTTYPE=text/html:Join the Chamber Peeps Team!
LOCATION:Old Cannery Furniture Warehouse Sumner\, WA
UID:e.101.9068
SEQUENCE:3
DTSTAMP:20260421T101459Z
URL:https://business.puyallupsumnerchamber.com/events/details/come-walk-with-me-10-06-2018-9068
END:VEVENT

END:VCALENDAR
