BEGIN:VCALENDAR
VERSION:2.0
PRODID:-//ChamberMaster//Event Calendar 2.0//EN
METHOD:PUBLISH
X-PUBLISHED-TTL:P3D
REFRESH-INTERVAL:P3D
CALSCALE:GREGORIAN
BEGIN:VEVENT
DTSTART:20160323T141500Z
DTEND:20160323T153000Z
X-MICROSOFT-CDO-ALLDAYEVENT:FALSE
SUMMARY:Communities In Schools of Puyallup-11th Annual Friendraiser Breakfast & Auction
DESCRIPTION:Planting Seeds of Success\n\nHow can you change a life forever? By being a part of the Annual Friendraiser event you are helping to plant seeds of success for students here in Puyallup! Communities In Schools of Puyallup helps students to overcome barriers to success\, stay on track to graduate and aim for a brighter future. \n\n \n\nThis annual fundraising event includes a breakfast provided by Choice Catering\, performances by local \n\nstudents\, presentation of CIS of Puyallup annual awards\, live auction\, many fun raffle items and an opportunity to help students.\n\n\n\nPresenting Sponsor of Event: Korum For Kids Foundation\n\n\n\nTickets are avaliable @ http://friendraiser.puyallup.ciswa.org
X-ALT-DESC;FMTTYPE=text/html:<strong><span style="font-family:arial"><span style="color:rgb(192\, 0\, 0)">Planting Seeds of Success</span></span></strong><br />\n<span style="font-family:arial"><span style="color:rgb(15\, 54\, 121)">How can you change a life forever? By being a part of the Annual Friendraiser event you are helping to plant seeds of success for students here in Puyallup! Communities In Schools of Puyallup helps students to overcome barriers to success\, stay on track to graduate and aim for a brighter future. </span></span><br />\n&nbsp\;<br />\n<span style="font-family:arial"><span style="color:rgb(15\, 54\, 121)">This annual fundraising event includes a breakfast provided by Choice Catering\, performances by local </span></span><br />\n<span style="font-family:arial"><span style="color:rgb(15\, 54\, 121)">students\, presentation of CIS of Puyallup annual awards\, live auction\, many fun raffle items and an opportunity to help students.<br />\n<br />\nPresenting Sponsor of Event: Korum For Kids Foundation<br />\n<br />\nTickets are avaliable @&nbsp\;</span></span><a href="http://friendraiser.puyallup.ciswa.org">http://friendraiser.puyallup.ciswa.org</a><br />\n&nbsp\;<br />\n<br />\n&nbsp\;<br />\n<br />\n<br />\n<br />\n<br />\n<br />\n&nbsp\;
LOCATION:The Washington State Fair and Events Center\, Pavilion
UID:e.101.7870
SEQUENCE:3
DTSTAMP:20260423T232202Z
URL:https://business.puyallupsumnerchamber.com/events/details/communities-in-schools-of-puyallup-11th-annual-friendraiser-breakfast-auction-03-23-2016-7870
END:VEVENT

END:VCALENDAR
