BEGIN:VCALENDAR
VERSION:2.0
PRODID:-//ChamberMaster//Event Calendar 2.0//EN
METHOD:PUBLISH
X-PUBLISHED-TTL:P3D
REFRESH-INTERVAL:P3D
CALSCALE:GREGORIAN
BEGIN:VEVENT
DTSTART:20160430T170000Z
DTEND:20160430T200000Z
X-MICROSOFT-CDO-ALLDAYEVENT:FALSE
SUMMARY:Community Blood Drive at Gordon Family YMCA Healthy Kids Day
DESCRIPTION:GIVE BLOOD SAVE LIVES\n\nCascade Regional Blood Services is committed to serving the residents of East Pierce County. For 70 years CRBS has provided blood products and services to Pierce and South King County hospitals and trauma centers\, including MultiCare Good Samaritan Hospital. We are proud to be your community blood center!\n\n\n\nBefore you donate\, be sure to eat well and drink plenty of non-caffeinated beverages. BRING PHOTO ID.
X-ALT-DESC;FMTTYPE=text/html:<p>GIVE BLOOD SAVE LIVES<br />\nCascade Regional Blood Services is committed to serving the residents of East Pierce County. For 70 years CRBS has provided blood products and services to Pierce and South King County hospitals and trauma centers\, including MultiCare Good Samaritan Hospital. We are proud to be your community blood center!<br />\n<br />\nBefore you donate\, be sure to eat well and drink plenty of non-caffeinated beverages. BRING PHOTO ID.</p>\n
LOCATION:Gordon Family YMCA
UID:e.101.8026
SEQUENCE:3
DTSTAMP:20260423T232135Z
URL:https://business.puyallupsumnerchamber.com/events/details/community-blood-drive-at-gordon-family-ymca-healthy-kids-day-04-30-2016-8026
END:VEVENT

END:VCALENDAR
