BEGIN:VCALENDAR
VERSION:2.0
PRODID:-//ChamberMaster//Event Calendar 2.0//EN
METHOD:PUBLISH
X-PUBLISHED-TTL:P3D
REFRESH-INTERVAL:P3D
CALSCALE:GREGORIAN
BEGIN:VEVENT
DTSTART:20150425T163000Z
DTEND:20150425T203000Z
X-MICROSOFT-CDO-ALLDAYEVENT:FALSE
SUMMARY:Community Blood Drive at Mel Korum YMCA Healthy Kids Day
DESCRIPTION:GIVE BLOOD SAVE LIVES\n\nCascade Regional Blood Services is committed to serving the residents of East Pierce County. For over 65 years CRBS has provided blood products and services to Pierce and South King County hospitals and trauma centers\, including MultiCare Good Samaritan Hospital. We are proud to be your community blood center!\n\n\n\nBefore you donate\, be sure to eat well and drink plenty of non-caffeinated beverages. BRING PHOTO ID.
X-ALT-DESC;FMTTYPE=text/html:<p class="MsoNormal" style="margin: 0in 0in 0pt"><font size="3"><font color="#000000">GIVE BLOOD SAVE LIVES<br />\nCascade Regional Blood Services is committed to serving the residents of East Pierce County. For over 65 years CRBS has provided blood products and services to Pierce and South King County hospitals and trauma centers\, including MultiCare Good Samaritan Hospital. We are proud to be your community blood center!<br />\n<br />\nBefore you donate\, be sure to eat well and drink plenty of non-caffeinated beverages. BRING PHOTO ID.</font></font></p>\n
LOCATION:
UID:e.101.3435
SEQUENCE:3
DTSTAMP:20260424T155005Z
URL:https://business.puyallupsumnerchamber.com/events/details/community-blood-drive-at-mel-korum-ymca-healthy-kids-day-04-25-2015-3435
END:VEVENT

END:VCALENDAR
