BEGIN:VCALENDAR
VERSION:2.0
PRODID:-//ChamberMaster//Event Calendar 2.0//EN
METHOD:PUBLISH
X-PUBLISHED-TTL:P3D
REFRESH-INTERVAL:P3D
CALSCALE:GREGORIAN
BEGIN:VEVENT
DTSTART:20150718T170000Z
DTEND:20150718T210000Z
X-MICROSOFT-CDO-ALLDAYEVENT:FALSE
SUMMARY:Community Blood Drive at Puyallup Farmers' Market
DESCRIPTION:GIVE BLOOD SAVE LIVES Cascade Regional Blood Services is committed to serving the residents of East Pierce County. For over 65 years CRBS has provided blood products and services to Pierce and South King County hospitals and clinics\, including MultiCare Good Samaritan Hospital. We are proud to be your community blood center! Before you donate\, be sure to eat well and drink plenty of non-caffeinated beverages. Bring photo ID.
X-ALT-DESC;FMTTYPE=text/html:GIVE BLOOD SAVE LIVES Cascade Regional Blood Services is committed to serving the residents of East Pierce County. For over 65 years CRBS has provided blood products and services to Pierce and South King County hospitals and clinics\, including MultiCare Good Samaritan Hospital. We are proud to be your community blood center! Before you donate\, be sure to eat well and drink plenty of non-caffeinated beverages. Bring photo ID.
LOCATION:Puyallup Farmers' Market
UID:e.101.6730
SEQUENCE:3
DTSTAMP:20260424T105634Z
URL:https://business.puyallupsumnerchamber.com/events/details/community-blood-drive-at-puyallup-farmers-market-07-18-2015-6730
END:VEVENT

END:VCALENDAR
