BEGIN:VCALENDAR
VERSION:2.0
PRODID:-//ChamberMaster//Event Calendar 2.0//EN
METHOD:PUBLISH
X-PUBLISHED-TTL:P3D
REFRESH-INTERVAL:P3D
CALSCALE:GREGORIAN
BEGIN:VEVENT
DTSTART:20150725T013000Z
DTEND:20150725T053000Z
X-MICROSOFT-CDO-ALLDAYEVENT:FALSE
SUMMARY:Community Blood Drive at Relay for Life of Sumner
DESCRIPTION:GIVE BLOOD SAVE LIVES Cascade Regional Blood Services is committed to serving the residents of East Pierce County. For over 65 years CRBS has provided blood products and services to Pierce and South King County hospitals and clinics\, including MultiCare Good Samaritan Hospital. We are proud to be your community blood center! Before you donate\, be sure to eat well and drink plenty of non-caffeinated beverages. Bring photo ID.
X-ALT-DESC;FMTTYPE=text/html:GIVE BLOOD SAVE LIVES Cascade Regional Blood Services is committed to serving the residents of East Pierce County. For over 65 years CRBS has provided blood products and services to Pierce and South King County hospitals and clinics\, including MultiCare Good Samaritan Hospital. We are proud to be your community blood center! Before you donate\, be sure to eat well and drink plenty of non-caffeinated beverages. Bring photo ID.
LOCATION:Sunset Chev Stadium
UID:e.101.6731
SEQUENCE:3
DTSTAMP:20260424T105401Z
URL:https://business.puyallupsumnerchamber.com/events/details/community-blood-drive-at-relay-for-life-of-sumner-07-24-2015-6731
END:VEVENT

END:VCALENDAR
