BEGIN:VCALENDAR
VERSION:2.0
PRODID:-//ChamberMaster//Event Calendar 2.0//EN
METHOD:PUBLISH
X-PUBLISHED-TTL:P3D
REFRESH-INTERVAL:P3D
CALSCALE:GREGORIAN
BEGIN:VEVENT
DTSTART:20161022T170000Z
DTEND:20161022T210000Z
X-MICROSOFT-CDO-ALLDAYEVENT:FALSE
SUMMARY:Community Blood Drive at South Hill Mall
DESCRIPTION:GIVE BLOOD SAVE LIVES\n\nCascade Regional Blood Services is committed to serving the residents of East Pierce County. For 70 years CRBS has provided blood products and services to Pierce and South King County hospitals and clinics\, including Good Samaritan Hospital. We are proud to be your community blood center!\n\nBefore you donate\, be sure to eat well and drink plenty of non-caffeinated beverages. BRING PHOTO ID.
X-ALT-DESC;FMTTYPE=text/html:<p>GIVE BLOOD SAVE LIVES</p>\n\n<p>Cascade Regional Blood Services is committed to serving the residents of East Pierce County. For 70 years CRBS has provided blood products and services to Pierce and South King County hospitals and clinics\, including Good Samaritan Hospital. We are proud to be your community blood center!</p>\n\n<p>Before you donate\, be sure to eat well and drink plenty of non-caffeinated beverages. BRING PHOTO ID.</p>\n
LOCATION:CRBS Bloodmobile will be parked between Applebee's and the Mall.
UID:e.101.8431
SEQUENCE:3
DTSTAMP:20260423T124231Z
URL:https://business.puyallupsumnerchamber.com/events/details/community-blood-drive-at-south-hill-mall-10-22-2016-8431
END:VEVENT

END:VCALENDAR
