BEGIN:VCALENDAR
VERSION:2.0
PRODID:-//ChamberMaster//Event Calendar 2.0//EN
METHOD:PUBLISH
X-PUBLISHED-TTL:P3D
REFRESH-INTERVAL:P3D
CALSCALE:GREGORIAN
BEGIN:VEVENT
DTSTART:20150620T170000Z
DTEND:20150620T210000Z
X-MICROSOFT-CDO-ALLDAYEVENT:FALSE
SUMMARY:Community Blood Drive at Surf the Sidewalk Sale - Sumner Downtown Association
DESCRIPTION:GIVE BLOOD SAVE LIVES Cascade Regional Blood Services is committed to serving the residents of East Pierce County. For over 65 years CRBS has provided blood products and services to Pierce and South King County hospitals and clinics\, including Good Samaritan Hospital. We are proud to be your community blood center! Before you donate\, be sure to eat well and drink plenty of non-caffeinated beverages. BRING PHOTO ID.
X-ALT-DESC;FMTTYPE=text/html:<p class="MsoNormal" style="margin: 0in 0in 0pt\;"><font size="3"><font color="#000000">GIVE BLOOD SAVE LIVES Cascade Regional Blood Services is committed to serving the residents of East Pierce County. For over 65 years CRBS has provided blood products and services to Pierce and South King County hospitals and clinics\, including Good Samaritan Hospital. We are proud to be your community blood center! Before you donate\, be sure to eat well and drink plenty of non-caffeinated beverages. BRING PHOTO ID.</font></font></p>\n
LOCATION:
UID:e.101.3483
SEQUENCE:3
DTSTAMP:20260424T140415Z
URL:https://business.puyallupsumnerchamber.com/events/details/community-blood-drive-at-surf-the-sidewalk-sale-sumner-downtown-association-06-20-2015-3483
END:VEVENT

END:VCALENDAR
