BEGIN:VCALENDAR
VERSION:2.0
PRODID:-//ChamberMaster//Event Calendar 2.0//EN
METHOD:PUBLISH
X-PUBLISHED-TTL:P3D
REFRESH-INTERVAL:P3D
CALSCALE:GREGORIAN
BEGIN:VEVENT
DTSTART:20180823T002500Z
DTEND:20180823T033000Z
X-MICROSOFT-CDO-ALLDAYEVENT:FALSE
SUMMARY:Cowboy Crawl Downtown Puyallup
DESCRIPTION:Get ready to rodeo!!  join the Stampede of Cowboys for a night in Dowtown Puyallup.  Music\, Roping\, Cowboy Contest and Prizes\n\nTickets include 2 drinks or an appetizer at the participating restaurants.  We have 13 restaurants that are participating
X-ALT-DESC;FMTTYPE=text/html:Get ready to rodeo!!&nbsp\; join the Stampede of Cowboys for a night in Dowtown Puyallup.&nbsp\; Music\, Roping\, Cowboy Contest and Prizes<br />\nTickets include 2 drinks or an appetizer at the participating restaurants.&nbsp\; We have 13 restaurants that are participating
LOCATION:109 North Meridian Puyallup\, Washington
UID:e.101.9158
SEQUENCE:3
DTSTAMP:20260421T133035Z
URL:https://business.puyallupsumnerchamber.com/events/details/cowboy-crawl-downtown-puyallup-9158
END:VEVENT

END:VCALENDAR
