BEGIN:VCALENDAR
VERSION:2.0
PRODID:-//ChamberMaster//Event Calendar 2.0//EN
METHOD:PUBLISH
X-PUBLISHED-TTL:P3D
REFRESH-INTERVAL:P3D
CALSCALE:GREGORIAN
BEGIN:VEVENT
DTSTART:20160123T180000Z
DTEND:20160123T220000Z
X-MICROSOFT-CDO-ALLDAYEVENT:FALSE
SUMMARY:District-wide Prospective Family Open House
DESCRIPTION:Preparing Every Student\, Every Day...\n\nCCS students are prepared through a well-rounded educational experience\, focused on each student's academic success\, spiritual formation\, personal and social maturity\, and leadership development. \n\nCome find out more at our District-wide Open House at all six campuses.\n\n\n\nClick here for campus locations\, or call 253-841-1776 for more information.
X-ALT-DESC;FMTTYPE=text/html:<span style="font-size:18px"><em><span style="font-family:times new roman"><strong>Preparing Every Student\, Every Day...</strong></span></em></span><br />\nCCS students are prepared through a well-rounded educational experience\, focused on each student&#39\;s academic success\, spiritual formation\, personal and social maturity\, and leadership development.&nbsp\;<br />\nCome find out more at our District-wide Open House at all six campuses.<br />\n<br />\n<a href="http://www.cascadechristian.org/schools/">Click here</a> for campus locations\, or call 253-841-1776 for more information.<br />\n&nbsp\;
LOCATION:
UID:e.101.6815
SEQUENCE:3
DTSTAMP:20260424T022053Z
URL:https://business.puyallupsumnerchamber.com/events/details/district-wide-prospective-family-open-house-01-23-2016-6815
END:VEVENT

END:VCALENDAR
