BEGIN:VCALENDAR
VERSION:2.0
PRODID:-//ChamberMaster//Event Calendar 2.0//EN
METHOD:PUBLISH
X-PUBLISHED-TTL:P3D
REFRESH-INTERVAL:P3D
CALSCALE:GREGORIAN
BEGIN:VEVENT
DTSTART;VALUE=DATE:20160202
DTEND;VALUE=DATE:20160215
TRANSP:TRANSPARENT
X-MICROSOFT-CDO-ALLDAYEVENT:TRUE
SUMMARY:Downton Abbey Valentine Special Afternoon Tea
DESCRIPTION:British Bites is celebrating a Downton Abbey Valentine Special Afternoon Tea\n \n\n$41.95 for two \n\nCoronation Chicken Vol au Vent\n\nEgg Salad & Rocket\n\nSalmon & Cucumber\n\nSausage Roll\n\n \n\nChocolate Dipped Strawberry\n\nLemon Mini Vicki\n\nMacaroon Ball\n\nChocolate Trifle\n\n \n\nRoyal Ginger Heart\n\nMeringue Kisses\n\n \n\nLove Heart Scone\n\nClotted Cream & Jam\n\nLarge Pot Of Tea\n\n \n\nFebruary 2nd thru to 14th\n\n \n\nActual content may vary depending upon availability\n\nat least 24 hours needed for reservations  253-200-2342
X-ALT-DESC;FMTTYPE=text/html:British Bites is celebrating a Downton Abbey Valentine Special Afternoon Tea\n<p style="text-align: center\;"><span style="color:red\; font-family:lucida handwriting\; font-size:11pt"><strong>&nbsp\;</strong></span></p>\n\n<p style="text-align: center\;"><span style="font-family:lucida handwriting\; font-size:11pt"><strong>$41.95 for two </strong></span></p>\n\n<p style="text-align: center\;"><span style="font-family:lucida handwriting\; font-size:11pt">Coronation Chicken Vol au Vent</span></p>\n\n<p style="text-align: center\;"><span style="font-family:lucida handwriting\; font-size:11pt">Egg Salad &amp\; Rocket</span></p>\n\n<p style="text-align: center\;"><span style="font-family:lucida handwriting\; font-size:11pt">Salmon &amp\; Cucumber</span></p>\n\n<p style="text-align: center\;"><span style="font-family:lucida handwriting\; font-size:11pt">Sausage Roll</span></p>\n\n<p style="text-align: center\;"><span style="font-family:lucida handwriting\; font-size:11pt">&nbsp\;</span></p>\n\n<p style="text-align: center\;"><span style="font-family:lucida handwriting\; font-size:11pt">Chocolate Dipped Strawberry</span></p>\n\n<p style="text-align: center\;"><span style="font-family:lucida handwriting\; font-size:11pt">Lemon Mini Vicki</span></p>\n\n<p style="text-align: center\;"><span style="font-family:lucida handwriting\; font-size:11pt">Macaroon Ball</span></p>\n\n<p style="text-align: center\;"><span style="font-family:lucida handwriting\; font-size:11pt">Chocolate Trifle</span></p>\n\n<p style="text-align: center\;"><span style="font-family:lucida handwriting\; font-size:11pt">&nbsp\;</span></p>\n\n<p style="text-align: center\;"><span style="font-family:lucida handwriting\; font-size:11pt">Royal Ginger Heart</span></p>\n\n<p style="text-align: center\;"><span style="font-family:lucida handwriting\; font-size:11pt">Meringue Kisses</span></p>\n\n<p style="text-align: center\;"><span style="font-family:lucida handwriting\; font-size:11pt">&nbsp\;</span></p>\n\n<p style="text-align: center\;"><span style="font-family:lucida handwriting\; font-size:11pt">Love Heart Scone</span></p>\n\n<p style="text-align: center\;"><span style="font-family:lucida handwriting\; font-size:11pt">Clotted Cream &amp\; Jam</span></p>\n\n<p style="text-align: center\;"><span style="font-family:lucida handwriting\; font-size:11pt">Large Pot Of Tea</span></p>\n\n<p style="text-align: center\;"><span style="font-family:lucida handwriting\; font-size:11pt">&nbsp\;</span></p>\n\n<p style="text-align: center\;"><span style="color:red\; font-family:lucida handwriting\; font-size:11pt">February 2<sup>nd</sup> thru to 14<sup>th</sup></span></p>\n\n<p style="text-align: center\;"><span style="color:red\; font-family:lucida handwriting\; font-size:11pt">&nbsp\;</span></p>\n\n<p style="text-align: center\;"><span style="font-size:11pt"><strong>Actual content may vary depending upon availability</strong></span></p>\n\n<p style="text-align: center\;"><span style="font-size:11pt"><strong>at least 24 hours needed for reservations&nbsp\; 253-200-2342</strong></span></p>\n
LOCATION:720 E Main\, Puyalllup\, WA 98372
UID:e.101.7869
SEQUENCE:3
DTSTAMP:20260424T004518Z
URL:https://business.puyallupsumnerchamber.com/events/details/downton-abbey-valentine-special-afternoon-tea-02-02-2016-7869
END:VEVENT

END:VCALENDAR
