BEGIN:VCALENDAR
VERSION:2.0
PRODID:-//ChamberMaster//Event Calendar 2.0//EN
METHOD:PUBLISH
X-PUBLISHED-TTL:P3D
REFRESH-INTERVAL:P3D
CALSCALE:GREGORIAN
BEGIN:VEVENT
DTSTART:20160326T210000Z
DTEND:20160327T000000Z
X-MICROSOFT-CDO-ALLDAYEVENT:FALSE
SUMMARY:Easter Egg Hunt at Meridian Sunrise Village
DESCRIPTION:TRADITIONAL EGG HUNT: Ages 6 and under *On the grassy area near Qdoba *Kids will get to hunt for eggs in small groups\, we'll keep the line moving the whole time! This will be an ongoing egg hunt for the kids from 2-5pm. *Come anytime but please try to join the line by 4:30 for the fun! *We limit the number of eggs each little egg hunter may find so that there are enough for all the kids. No one goes home with an empty basket! (Please help us encourage your little ones to stick with the limit :) ~while supplies last~ SCAVENGER EGG HUNT: Ages 7 to 12 *Cascade Christian Schools is sponsoring this event! Get your first egg at their booth outside the RAM\, that will have your first clue which will lead you to one of our merchants. There you will get your next egg with a clue and so on... 6 eggs total. *This will be ongoing from 2-5pm. Come anytime for your first egg but please try to arrive by 4:30 so you have time to complete the scavenger hunt! ~while supplies last~ ONGOING ACTIVITIES FROM 2-5pm: MEET THE EASTER BUNNY *Bring your own camera for free bunny photos! VISIT SPIRIT 105.3 *Stop by for goodies from the radio station! PETTING ZOO *Pet the fluffy bunnies and more! PBS *Stop by their booth for a picture with Curious George! A SIMPLE WISH *Pose for a picture with the lovely Princess Elsa! Face painting\, the Puyallup Sumner Lions and more free fun for the whole family! RAIN OR SHINE
X-ALT-DESC;FMTTYPE=text/html:TRADITIONAL EGG HUNT: Ages 6 and under *On the grassy area near Qdoba *Kids will get to hunt for eggs in small groups\, we&#39\;ll keep the line moving the whole time! This will be an ongoing egg hunt for the kids from 2-5pm. *Come anytime but please try to join the line by 4:30 for the fun! *We limit the number of eggs each little egg hunter may find so that there are enough for all the kids. No one goes home with an empty basket! (Please help us encourage your little ones to stick with the limit :) ~while supplies last~ SCAVENGER EGG HUNT: Ages 7 to 12 *Cascade Christian Schools is sponsoring this event! Get your first egg at their booth outside the RAM\, that will have your first clue which will lead you to one of our merchants. There you will get your next egg with a clue and so on... 6 eggs total. *This will be ongoing from 2-5pm. Come anytime for your first egg but please try to arrive by 4:30 so you have time to complete the scavenger hunt! ~while supplies last~ ONGOING ACTIVITIES FROM 2-5pm: MEET THE EASTER BUNNY *Bring your own camera for free bunny photos! VISIT SPIRIT 105.3 *Stop by for goodies from the radio station! PETTING ZOO *Pet the fluffy bunnies and more! PBS *Stop by their booth for a picture with Curious George! A SIMPLE WISH *Pose for a picture with the lovely Princess Elsa! Face painting\, the Puyallup Sumner Lions and more free fun for the whole family! RAIN OR SHINE
LOCATION:10507 156th St. E. Puyallup\, WA 98374
UID:e.101.8013
SEQUENCE:3
DTSTAMP:20260423T231420Z
URL:https://business.puyallupsumnerchamber.com/events/details/easter-egg-hunt-at-meridian-sunrise-village-03-26-2016-8013
END:VEVENT

END:VCALENDAR
