BEGIN:VCALENDAR
VERSION:2.0
PRODID:-//ChamberMaster//Event Calendar 2.0//EN
METHOD:PUBLISH
X-PUBLISHED-TTL:P3D
REFRESH-INTERVAL:P3D
CALSCALE:GREGORIAN
BEGIN:VEVENT
DTSTART:20140419T210000Z
DTEND:20140420T000000Z
X-MICROSOFT-CDO-ALLDAYEVENT:FALSE
SUMMARY:Easter EGGstravaganza
DESCRIPTION:Hop on by for our Easter EGGstravaganza!\n\nTraditional Egg Hunt: For ages 6 and under\n\n*On the grassy area near Qdoba\n\n*There will be two lines for ages 0-3 and 4-6\n\n*Kids will get to hunt for eggs in small groups\, we'll keep the line moving the whole time! This will be an ongoing egg hunt for the kids from 2-5pm. Come anytime and join the line for the fun! No more standing around a huge square area waiting for "GO" and then everyone attacking the eggs at the same time... \n\n*We limit the number of eggs each little egg hunter may find so that there are enough for all the kids. No one goes home with an empty basket!\n\nScavenger Hunt: For ages 7 to 12\n\n*Get your first egg at the booth outside the Ram\, that will have the first clue which will lead you to one of our merchants. There you will get your next egg with a clue and so on...\n\n*This will be ongoing from 2-5pm. Come anytime for your first egg!\n\nMeet the Easter Bunny: From 2-5pm\n\n*Bring your own camera for free bunny photos!\n\nVisit SPIRIT 105.3: From 2-4pm\n\n*Stop by for goodies from the radio station!\n\nPetting Zoo: From 2-4pm\n\n*Pet the fluffy bunnies and more!\n\n*Behind Qdoba\n\nFace Painting and lots of fun for all!!
X-ALT-DESC;FMTTYPE=text/html:<div style="text-align: center"><span style="font-size: 24px">Hop on by for our Easter EGGstravaganza!</span><br />\nTraditional Egg Hunt: For ages 6 and under<br />\n*On the grassy area near Qdoba<br />\n*There will be two lines for ages 0-3 and 4-6<br />\n*Kids will get to hunt for eggs in small groups\, we&#39\;ll keep the line moving the whole time! This will be an ongoing egg hunt for the kids from 2-5pm. Come anytime and join the line for the fun!&nbsp\;No more standing around a huge square area waiting for &quot\;GO&quot\; and then everyone attacking the eggs at the same time...&nbsp\;<br />\n*We limit the number of eggs each little egg hunter may find so that there are enough for all the kids. No one goes home with an empty basket!<br />\nScavenger Hunt:&nbsp\;For ages 7 to 12<br />\n*Get your first egg at the booth outside the Ram\, that will have the first clue which will lead you to one of our merchants. There you will get your next egg with a clue and so on...<br />\n*This will be ongoing from 2-5pm. Come anytime for your first egg!<br />\nMeet the Easter Bunny:&nbsp\;From 2-5pm<br />\n*Bring your own camera for free bunny photos!<br />\nVisit SPIRIT 105.3:&nbsp\;From 2-4pm<br />\n*Stop by for goodies from the radio station!<br />\nPetting Zoo:&nbsp\;From 2-4pm<br />\n*Pet the fluffy bunnies and more!<br />\n*Behind Qdoba<br />\nFace Painting and lots of fun for all!!</div>\n
LOCATION:Sunrise Village South Hill Puyallup. On Meridian East at 156th.
UID:e.101.6472
SEQUENCE:3
DTSTAMP:20260425T105053Z
URL:https://business.puyallupsumnerchamber.com/events/details/easter-eggstravaganza-04-19-2014-6472
END:VEVENT

END:VCALENDAR
