BEGIN:VCALENDAR
VERSION:2.0
PRODID:-//ChamberMaster//Event Calendar 2.0//EN
METHOD:PUBLISH
X-PUBLISHED-TTL:P3D
REFRESH-INTERVAL:P3D
CALSCALE:GREGORIAN
BEGIN:VEVENT
DTSTART:20180111T150000Z
DTEND:20180111T170000Z
X-MICROSOFT-CDO-ALLDAYEVENT:FALSE
SUMMARY:Economic Forecast and Rising Star Awards Breakfast
DESCRIPTION:Join us as we present a speakers panel focused on the Economic Forecast for Puyallup\, Sumner and So. Hill. The Chamber will also announce our Rising Star Award winners for 2016 and AUSA will present their annual military/business awards.\n\n\n\nCLICK HERE to purchase tickets.
X-ALT-DESC;FMTTYPE=text/html:<span style="color: rgb(27\, 27\, 27)\; font-family: Arial\, Helvetica\, sans-serif\; font-size: 12px\; line-height: 18px\;">Join us as we present a speakers panel focused on the Economic Forecast for Puyallup\, Sumner and So. Hill. The Chamber will also announce our Rising Star Award winners for 2016 and AUSA will present their annual military/business awards.<br />\n<br />\n<u><a href="http://puyallupsumnerchamber.com/commerce-news/rising-star-awards-economic-forecast-breakfast/">CLICK HERE</a></u> to purchase tickets.<br />\n<br />\n<br />\n<br />\n&nbsp\; &nbsp\; &nbsp\; &nbsp\; &nbsp\; &nbsp\; &nbsp\; &nbsp\; &nbsp\; &nbsp\; &nbsp\; &nbsp\; &nbsp\; &nbsp\; &nbsp\; &nbsp\; &nbsp\; &nbsp\; &nbsp\;&nbsp\;</span>
LOCATION:Pioneer Park Pavilion 333 South Meridian - Puyallup
UID:e.101.8831
SEQUENCE:3
DTSTAMP:20260421T020617Z
URL:https://business.puyallupsumnerchamber.com/events/details/economic-forecast-and-rising-star-awards-breakfast-01-11-2018-8831
END:VEVENT

END:VCALENDAR
