BEGIN:VCALENDAR
VERSION:2.0
PRODID:-//ChamberMaster//Event Calendar 2.0//EN
METHOD:PUBLISH
X-PUBLISHED-TTL:P3D
REFRESH-INTERVAL:P3D
CALSCALE:GREGORIAN
BEGIN:VEVENT
DTSTART:20150122T150000Z
DTEND:20150122T170000Z
X-MICROSOFT-CDO-ALLDAYEVENT:FALSE
SUMMARY:Economic Forecast and Rising Star Awards Breakfast
DESCRIPTION:Join us as we present a speakers panel focused on the Economic Forecast for Puyallup\, Sumner and So. Hill. The Chamber will also announce our Rising Star Award winners for 2014 and AUSA will present their annual military/business awards.
X-ALT-DESC;FMTTYPE=text/html:<span style="color: rgb(27\, 27\, 27)\; font-family: Arial\, Helvetica\, sans-serif\; font-size: 12px\; line-height: 18px\;">Join us as we present a speakers panel focused on the Economic Forecast for Puyallup\, Sumner and So. Hill. The Chamber will also announce our Rising Star Award winners for 2014 and AUSA will present their annual military/business awards.</span>
LOCATION:Pioneer Park Pavilion 333 South Meridian - Puyallup
UID:e.101.6534
SEQUENCE:3
DTSTAMP:20260424T203048Z
URL:https://business.puyallupsumnerchamber.com/events/details/economic-forecast-and-rising-star-awards-breakfast-01-22-2015-6534
END:VEVENT

END:VCALENDAR
