BEGIN:VCALENDAR
VERSION:2.0
PRODID:-//ChamberMaster//Event Calendar 2.0//EN
METHOD:PUBLISH
X-PUBLISHED-TTL:P3D
REFRESH-INTERVAL:P3D
CALSCALE:GREGORIAN
BEGIN:VEVENT
DTSTART:20150627T013000Z
DTEND:20150627T033000Z
X-MICROSOFT-CDO-ALLDAYEVENT:FALSE
SUMMARY:Essential Oils Party
DESCRIPTION:Join us for a fun\, educational Essential Oils Party! This will be held at Mark and Cynthia Harp's home in Puyallup\, and will cover the following topics:\n\n\n\nhow to use essential oils for health and wellness\n\nhow essential oils can provide natural health solutions for you and your family\n\nwhy millions of people all over the world are turning to essential oils every day\n\nessential oil application methods\n\n\n\nThe Fun Stuff!\n\n\n\nFriday\, June 26th from 6:30 - 8:30 PM\n\nHosted by Essential Oil Experts\, Mark & Cynthia Harp\n\nThis free party will be held at our home in Puyallup\n\nAn awesome raffle for essential oils + wellness products will be held\n\nReceive a free essential oil sample\, just for attending!\n\nBring a friend\, and receive a free Chocolate Spice Sugar Scrub featuring essential oils!\n\nRSVP to get a map!
X-ALT-DESC;FMTTYPE=text/html:Join us for a fun\, educational Essential Oils Party! This will be held at Mark and Cynthia Harp&#39\;s home in Puyallup\, and will cover the following topics:<br />\n<br />\nhow to use essential oils for health and wellness<br />\nhow essential oils can provide natural health solutions for you and your family<br />\nwhy millions of people all over the world are turning to essential oils every day<br />\nessential oil application methods<br />\n<br />\nThe Fun Stuff!<br />\n<br />\nFriday\, June 26th from 6:30 - 8:30 PM<br />\nHosted by Essential Oil Experts\, Mark &amp\; Cynthia Harp<br />\nThis free party will be held at our home in Puyallup<br />\nAn awesome raffle for essential oils + wellness products will be held<br />\nReceive a free essential oil sample\, just for attending!<br />\nBring a friend\, and receive a free Chocolate Spice Sugar Scrub featuring essential oils!<br />\nRSVP to get a map!
LOCATION:Private Residence of Mark & Cynthia Harp RSVP for a emailed map
UID:e.101.6725
SEQUENCE:3
DTSTAMP:20260424T120824Z
URL:https://business.puyallupsumnerchamber.com/events/details/essential-oils-party-06-26-2015-6725
END:VEVENT

END:VCALENDAR
