BEGIN:VCALENDAR
VERSION:2.0
PRODID:-//ChamberMaster//Event Calendar 2.0//EN
METHOD:PUBLISH
X-PUBLISHED-TTL:P3D
REFRESH-INTERVAL:P3D
CALSCALE:GREGORIAN
BEGIN:VEVENT
DTSTART:20160521T010000Z
DTEND:20160521T040000Z
X-MICROSOFT-CDO-ALLDAYEVENT:FALSE
SUMMARY:Fashionable Giving
DESCRIPTION:Get ready for a night of Fashionable Giving -\n\na benefit auction and fashion show like no other! \n\n\n\nWe promise to delight your senses as we kick off the evening with a glass of wine\, photo booth\, silent auction\, savory hors d'oeuvres\, tasty desserts and a no-host bar. Following the social hour\, there will be a high-energy live auction\, Fund the Mission opportunity\, and an exciting fashion show featuring "twice-loved" items from our very own Clothing Bank!\n\nA big thanks to our Presenting Sponsors: \n\nKorum for Kids Foundation and Rusty Bradeen Trucking
X-ALT-DESC;FMTTYPE=text/html:<p style="text-align: center\;"><strong><span style="font-size:14px">Get ready for a night of&nbsp\;<em>Fashionable Giving -</em><br />\na benefit auction and fashion show like no other! </span></strong></p>\n\n<p><br />\nWe promise to delight your senses as we kick off the evening with a glass of wine\, photo booth\, silent auction\, savory hors d&rsquo\;oeuvres\, tasty desserts and a no-host bar. Following the social hour\, there will be a high-energy live auction\, Fund the Mission opportunity\, and an exciting fashion show featuring &ldquo\;twice-loved&rdquo\; items from our very own Clothing Bank!</p>\n\n<p style="text-align: center\;"><span style="font-size:14px"><strong>A big thanks to our Presenting Sponsors:&nbsp\;</strong><br />\nKorum for Kids Foundation and Rusty Bradeen Trucking</span></p>\n
LOCATION:Station House 726 427 N Meridian\, Puyallup 98371
UID:e.101.8012
SEQUENCE:3
DTSTAMP:20260423T201927Z
URL:https://business.puyallupsumnerchamber.com/events/details/fashionable-giving-05-20-2016-8012
END:VEVENT

END:VCALENDAR
