BEGIN:VCALENDAR
VERSION:2.0
PRODID:-//ChamberMaster//Event Calendar 2.0//EN
METHOD:PUBLISH
X-PUBLISHED-TTL:P3D
REFRESH-INTERVAL:P3D
CALSCALE:GREGORIAN
BEGIN:VEVENT
DTSTART:20160810T013000Z
DTEND:20160810T021500Z
X-MICROSOFT-CDO-ALLDAYEVENT:FALSE
SUMMARY:Financial Services Overview
DESCRIPTION:Strategem Financial has been given the privilege of  hosting two leaders within the financial services sector\,Steve and Louise Haag of World Financial Group. Please join us at our Sumner office as they share with us the wonderful opportunity being a financial advisor brings. Learn how you can help famlies experiance the peace and security that as a defined financial plan can bring.
X-ALT-DESC;FMTTYPE=text/html:Strategem Financial has been given the privilege of &nbsp\;hosting two leaders within the financial services sector\,Steve and Louise Haag of World Financial Group. Please join us at our Sumner office as they share with us the wonderful opportunity being a financial advisor brings. Learn how you can help famlies experiance the peace and security that as a defined financial plan can bring.
LOCATION:1201 Main Street Suite B Sumner\, WA 98390
UID:e.101.8419
SEQUENCE:3
DTSTAMP:20260423T153540Z
URL:https://business.puyallupsumnerchamber.com/events/details/financial-services-overview-08-09-2016-8419
END:VEVENT

END:VCALENDAR
