BEGIN:VCALENDAR
VERSION:2.0
PRODID:-//ChamberMaster//Event Calendar 2.0//EN
METHOD:PUBLISH
X-PUBLISHED-TTL:P3D
REFRESH-INTERVAL:P3D
CALSCALE:GREGORIAN
BEGIN:VEVENT
DTSTART:20160604T000000Z
DTEND:20160604T030000Z
X-MICROSOFT-CDO-ALLDAYEVENT:FALSE
SUMMARY:First Friday Puyallup
DESCRIPTION:Visit Downtown Puyallup the First Friday of each month for a growing cultural event that brings the community together to experience Puyallup's revitalized downtown district.  Visit your longtime favorite businesses and check out all the new businesses\, restaurants and pubs in the neighborhood. Spend an evening with friends\, "seeing and being seen"\, at this fun\, informal monthly "art walk" event.\n\nThe mission of the First Friday Puyallup sponsor is to encourage a lively community culture of art and entertainment throughout the downtown corridor. To do this\, participating businesses are opening their doors from 5-8pm on the first Friday of each month to display exhibits by local artists\, offer special events and generally create a welcoming small-town atmosphere with big-city sophistication for folks to come downtown and enjoy.\n\nFirst Friday Puyallup is a fairly new\, grass-roots tradition with more businesses joining each month. We hope to have a website and map of participating businesses available soon\, in the mean time\, please come down\, stoll along the sidewalks and visit your favorite businesses to see what they artist's they are hosting for First Friday.
X-ALT-DESC;FMTTYPE=text/html:Visit Downtown Puyallup the First Friday of each month for a growing cultural event that brings the community together to experience Puyallup&#39\;s revitalized downtown district.&nbsp\; Visit your longtime favorite businesses and check out all the new businesses\, restaurants and pubs in the neighborhood. Spend an evening with friends\, &quot\;seeing and being seen&quot\;\, at this fun\, informal monthly &quot\;art walk&quot\; event.<br />\nThe mission of the First Friday Puyallup sponsor is to encourage a lively community culture of art and entertainment throughout the downtown corridor. To do this\, participating businesses are opening their doors from 5-8pm on the first Friday of each month to display exhibits by local artists\, offer special events and generally create a welcoming small-town atmosphere with big-city sophistication for folks to come downtown and enjoy.<br />\nFirst Friday Puyallup is a fairly new\, grass-roots tradition with more businesses joining each month. We hope to have a website and map of participating businesses available soon\, in the mean time\, please come down\, stoll along the sidewalks and visit your favorite businesses to see what they artist&#39\;s they are hosting for First Friday.
LOCATION:A number of your favorite Downtown Puyallup businesses are taking part in First Friday\, with more joining the event each month. Your support (by showing up on First Friday and by asking your favorite establishments if they are part of this new monthly event) will encourage more businesses to participate\, thereby helping the event grow.
UID:e.101.8264
SEQUENCE:3
DTSTAMP:20260423T183713Z
URL:https://business.puyallupsumnerchamber.com/events/details/first-friday-puyallup-06-03-2016-8264
END:VEVENT

END:VCALENDAR
