BEGIN:VCALENDAR
VERSION:2.0
PRODID:-//ChamberMaster//Event Calendar 2.0//EN
METHOD:PUBLISH
X-PUBLISHED-TTL:P3D
REFRESH-INTERVAL:P3D
CALSCALE:GREGORIAN
BEGIN:VEVENT
DTSTART:20180323T170000Z
DTEND:20180323T230000Z
X-MICROSOFT-CDO-ALLDAYEVENT:FALSE
SUMMARY:Foundation Membership Sales Event
DESCRIPTION:Join us for an on location enrollment event! It's a great chance to meet the owners and to learn about our foundation membership specials that can lock you in at half off for life!\n\n\n\n?Check out the event page on FB or Eventbrite for more info or simply stop by between 10AM and 4PM
X-ALT-DESC;FMTTYPE=text/html:Join us for an on location enrollment event! It&#39\;s a great chance to meet the owners and to learn about our foundation membership specials that can lock you in at half off for life!<br />\n<br />\n?Check out the event page on FB or Eventbrite for more info or simply stop by between 10AM and 4PM
LOCATION:13103 Meridian Ave E Suite 102 Puyallup WA\, 98375
UID:e.101.8912
SEQUENCE:3
DTSTAMP:20260421T051936Z
URL:https://business.puyallupsumnerchamber.com/events/details/foundation-membership-sales-event-03-23-2018-8912
END:VEVENT

END:VCALENDAR
