BEGIN:VCALENDAR
VERSION:2.0
PRODID:-//ChamberMaster//Event Calendar 2.0//EN
METHOD:PUBLISH
X-PUBLISHED-TTL:P3D
REFRESH-INTERVAL:P3D
CALSCALE:GREGORIAN
BEGIN:VEVENT
DTSTART:20141213T230000Z
DTEND:20141221T020000Z
X-MICROSOFT-CDO-ALLDAYEVENT:FALSE
SUMMARY:Free Festive Fun
DESCRIPTION:Bring the whole family for lots of FREE Festive Fun this Holiday Season!\n\nBring your camera for pictures with Santa who will be on a real sleigh.\n\nHop on for a horse drawn WAGON RIDE!\n\nGoats\, sheep even a camel!Pet the animals in the LIVING NATIVITY which will be set up in the lot across from MOD Pizza......\n\nEnjoy the Dickens Carolers who will be strolling around the shopping center.\n\nOn December 6th visit with SPIRIT 105.3.\n\n\n\nALL SEASON LONG....\n\n\n\nEnjoy great deals on shopping\, dining and more at Sunrise Village!\n\nTake a stroll down 156th and enjoy the decorated windows.\n\nAlso don't miss the Puyallup South Hill LIONS Christmas tree lot in the lower parking lot!\n\n\n\nCall 253-904-8923 or visit www.mysunrisevillage.com
X-ALT-DESC;FMTTYPE=text/html:<h1 style="font-style: italic\;"><span class="marker"><strong><cite><span style="font-family: tahoma\;"><code><big><span style="font-size: 14px\;"><span dir="rtl">Bring the whole family for lots of FREE Festive Fun this Holiday Season!<br />\nBring your camera for pictures with Santa who will be on a real sleigh.<br />\nHop on for a horse drawn WAGON RIDE!<br />\nGoats\, sheep even a camel!Pet the animals in the LIVING NATIVITY which will be set up in the lot across from MOD Pizza......<br />\nEnjoy the Dickens Carolers who will be strolling around the shopping center.<br />\nOn December 6th visit with SPIRIT 105.3.<br />\n<br />\nALL SEASON LONG....<br />\n<br />\nEnjoy great deals on shopping\, dining and more at Sunrise Village!<br />\nTake a stroll down 156th and enjoy the decorated windows.<br />\nAlso don&#39\;t miss the Puyallup South Hill LIONS Christmas tree lot in the lower parking lot!<br />\n<br />\nCall 253-904-8923 or visit www.mysunrisevillage.com&nbsp\;&nbsp\;&nbsp\;</span>&nbsp\;</span></big></code></span></cite></strong></span></h1>\n
LOCATION:156th & Meridian Puyallup\, WA
UID:e.101.6519
SEQUENCE:3
DTSTAMP:20260424T220231Z
URL:https://business.puyallupsumnerchamber.com/events/details/free-festive-fun-12-13-2014-6519
END:VEVENT

END:VCALENDAR
