BEGIN:VCALENDAR
VERSION:2.0
PRODID:-//ChamberMaster//Event Calendar 2.0//EN
METHOD:PUBLISH
X-PUBLISHED-TTL:P3D
REFRESH-INTERVAL:P3D
CALSCALE:GREGORIAN
BEGIN:VEVENT
DTSTART:20140517T160000Z
DTEND:20140517T190000Z
X-MICROSOFT-CDO-ALLDAYEVENT:FALSE
SUMMARY:Free Vein Screening at Eterna Vein and Medical Aesthetic
DESCRIPTION:Free vein screening event. Do you suffer from tired\, achy or unsightly legs? Join us for FREE SCREENING to determine if you are at risk! Please call for an appointment
X-ALT-DESC;FMTTYPE=text/html:Free vein screening event. Do you suffer from tired\, achy or unsightly legs? Join us for FREE SCREENING to determine if you are at risk! Please call for an appointment
LOCATION:Eterna Vein and Medical Aesthetic 1803 S. Meridian Puyallup (253)268-3400
UID:e.101.6492
SEQUENCE:3
DTSTAMP:20260425T110626Z
URL:https://business.puyallupsumnerchamber.com/events/details/free-vein-screening-at-eterna-vein-and-medical-aesthetic-05-17-2014-6492
END:VEVENT

END:VCALENDAR
