BEGIN:VCALENDAR
VERSION:2.0
PRODID:-//ChamberMaster//Event Calendar 2.0//EN
METHOD:PUBLISH
X-PUBLISHED-TTL:P3D
REFRESH-INTERVAL:P3D
CALSCALE:GREGORIAN
BEGIN:VEVENT
DTSTART:20140904T220000Z
DTEND:20140907T020000Z
X-MICROSOFT-CDO-ALLDAYEVENT:FALSE
SUMMARY:Free Vein Screening Clinic
DESCRIPTION:Free Vein Screening Clinic from 3:00 - 7:00PM. All screenings will be held at Eterna Vein and Medical Aesthetics
X-ALT-DESC;FMTTYPE=text/html:Free Vein Screening Clinic from 3:00 - 7:00PM. All screenings will be held at Eterna Vein and Medical Aesthetics
LOCATION:Eterna Vein and Medical Aesthetics 1803 S. Meridian Puyallup\, WA 98371
UID:e.101.6504
SEQUENCE:3
DTSTAMP:20260425T032502Z
URL:https://business.puyallupsumnerchamber.com/events/details/free-vein-screening-clinic-09-04-2014-6504
END:VEVENT

END:VCALENDAR
