BEGIN:VCALENDAR
VERSION:2.0
PRODID:-//ChamberMaster//Event Calendar 2.0//EN
METHOD:PUBLISH
X-PUBLISHED-TTL:P3D
REFRESH-INTERVAL:P3D
CALSCALE:GREGORIAN
BEGIN:VEVENT
DTSTART:20150606T160000Z
DTEND:20150606T180000Z
X-MICROSOFT-CDO-ALLDAYEVENT:FALSE
SUMMARY:Free Women?s Health Event
DESCRIPTION:. Pacific Medical Centers will be hosting a Free Women?s Health Event. Join the conversation and take simple steps to a healthier you! We invite you to our upcoming educational seminars to discuss treatment options for common female health concerns: ? 5 things women are too embarrassed to talk about ? 14 things your eyes say about your health ? Heartburn and hemorrhoids. Seating is limited\, so reserve your seat today! Registration is at 8:30 a.m. and the events will begin at 9 a.m. For more information please call 206.505.1266. To RSVP online\, visit www.PacMed.org/WomensEvent
X-ALT-DESC;FMTTYPE=text/html:. Pacific Medical Centers will be hosting a Free Women?s Health Event. Join the conversation and take simple steps to a healthier you! We invite you to our upcoming educational seminars to discuss treatment options for common female health concerns: ? 5 things women are too embarrassed to talk about ? 14 things your eyes say about your health ? Heartburn and hemorrhoids. Seating is limited\, so reserve your seat today! Registration is at 8:30 a.m. and the events will begin at 9 a.m. For more information please call 206.505.1266. To RSVP online\, visit www.PacMed.org/WomensEvent
LOCATION:Pacific Medical Centers- Renton Clinic 601 S Carr Rd\, #100 Renton\, WA 98055
UID:e.101.6579
SEQUENCE:3
DTSTAMP:20260424T140116Z
URL:https://business.puyallupsumnerchamber.com/events/details/free-women-s-health-event-06-06-2015-6579
END:VEVENT

END:VCALENDAR
