BEGIN:VCALENDAR
VERSION:2.0
PRODID:-//ChamberMaster//Event Calendar 2.0//EN
METHOD:PUBLISH
X-PUBLISHED-TTL:P3D
REFRESH-INTERVAL:P3D
CALSCALE:GREGORIAN
BEGIN:VEVENT
DTSTART:20140326T141500Z
DTEND:20140326T160000Z
X-MICROSOFT-CDO-ALLDAYEVENT:FALSE
SUMMARY:Friendraiser\, Breakfast\, Auction & raffle
DESCRIPTION:Communities in Schools - Puyallup\n\n9th Annual Friendraiser\n\n"Planting Seeds of Success"\n\nBreakfast\, Auction & Raffle
X-ALT-DESC;FMTTYPE=text/html:Communities in Schools - Puyallup<br />\n9th Annual Friendraiser<br />\n&quot\;Planting Seeds of Success&quot\;<br />\nBreakfast\, Auction &amp\; Raffle<br />\n&nbsp\;
LOCATION:Washington State Fair & Events Center - Pavilion
UID:e.101.6471
SEQUENCE:3
DTSTAMP:20260425T124458Z
URL:https://business.puyallupsumnerchamber.com/events/details/friendraiser-breakfast-auction-raffle-03-26-2014-6471
END:VEVENT

END:VCALENDAR
