BEGIN:VCALENDAR
VERSION:2.0
PRODID:-//ChamberMaster//Event Calendar 2.0//EN
METHOD:PUBLISH
X-PUBLISHED-TTL:P3D
REFRESH-INTERVAL:P3D
CALSCALE:GREGORIAN
BEGIN:VEVENT
DTSTART:20160121T023000Z
DTEND:20160121T040000Z
X-MICROSOFT-CDO-ALLDAYEVENT:FALSE
SUMMARY:Friends of the Library Annual Meeting
DESCRIPTION:Friends of the Library \n\nANNUAL MEETING\n\nLocal artist\, Chuck Fitzgerald will be discussing Arts Downtown\n\nLibrary staff will share the success of this summer's reading\n\nprogram
X-ALT-DESC;FMTTYPE=text/html:Friends of the Library&nbsp\;<br />\nANNUAL MEETING<br />\nLocal artist\, Chuck Fitzgerald will be discussing Arts Downtown<br />\nLibrary staff will share the success of this summer&#39\;s reading<br />\nprogram
LOCATION:Puyallup Public Library Library Meeting Room 324 S Meridian\, Puyallup
UID:e.101.7866
SEQUENCE:3
DTSTAMP:20260424T022344Z
URL:https://business.puyallupsumnerchamber.com/events/details/friends-of-the-library-annual-meeting-01-20-2016-7866
END:VEVENT

END:VCALENDAR
