BEGIN:VCALENDAR
VERSION:2.0
PRODID:-//ChamberMaster//Event Calendar 2.0//EN
METHOD:PUBLISH
X-PUBLISHED-TTL:P3D
REFRESH-INTERVAL:P3D
CALSCALE:GREGORIAN
BEGIN:VEVENT
DTSTART:20160819T200000Z
DTEND:20160819T230000Z
X-MICROSOFT-CDO-ALLDAYEVENT:FALSE
SUMMARY:Give Blood Get Beer at Mama Stortini's Restaurant & Catering
DESCRIPTION:Give Blood Get Beer is a theme for a series of Cascade Regional Blood Services blood drives that enables local restaurants and pubs to support our community's blood supply in a unique and fun way. All registered blood donors will receive a pre-paid coupon for a pint of beer!  \nCascade Regional Blood Services is committed to serving the residents of East Pierce County. For 70 years CRBS has provided blood products and services to Pierce and South King County hospitals and trauma centers\, including Good Samaritan Hospital. We are proud to be your community blood center.  Before you donate\, be sure to eat well and drink plenty of non-caffeinated beverages. BRING PHOTO ID.
X-ALT-DESC;FMTTYPE=text/html:<p><span style="font-size:12pt">Give Blood Get Beer is a theme for a series of Cascade Regional Blood Services blood drives that enables local restaurants and pubs to support our community&rsquo\;s blood supply in a unique and fun way. All registered blood donors will receive a pre-paid coupon for a pint of beer!&nbsp\; </span></p>\n<span style="font-size:12pt">Cascade Regional Blood Services is committed to serving the residents of East Pierce County. For 70 years CRBS has provided blood products and services to Pierce and South King County hospitals and trauma centers\, including Good Samaritan Hospital. We are proud to be your community blood center.&nbsp\; Before you donate\, be sure to eat well and drink plenty of non-caffeinated beverages. BRING PHOTO ID.</span>
LOCATION:Mama Stortini's Restaurant and Catering 3207 East Main Ave\, Puyallup
UID:e.101.8413
SEQUENCE:3
DTSTAMP:20260423T154000Z
URL:https://business.puyallupsumnerchamber.com/events/details/give-blood-get-beer-at-mama-stortini-s-restaurant-catering-08-19-2016-8413
END:VEVENT

END:VCALENDAR
