BEGIN:VCALENDAR
VERSION:2.0
PRODID:-//ChamberMaster//Event Calendar 2.0//EN
METHOD:PUBLISH
X-PUBLISHED-TTL:P3D
REFRESH-INTERVAL:P3D
CALSCALE:GREGORIAN
BEGIN:VEVENT
DTSTART:20150726T200000Z
DTEND:20150726T230000Z
X-MICROSOFT-CDO-ALLDAYEVENT:FALSE
SUMMARY:Give Blood Get Beer at Sparks Fireshouse Delit
DESCRIPTION:Give Blood Get Beer is a theme for a series of Cascade Regional Blood Services blood drives that enables local restaurants and pubs to support our community?s blood supply in a unique and fun way. All registered blood donors will receive a pre-paid coupon for a pint of beer\, redeemable beginning the day following the drive! Cascade Regional Blood Services is committed to serving the residents of East Pierce County. For over 65 years CRBS has provided blood products and services to Pierce and South King County hospitals and clinics\, including MultiCare Good Samaritan Hospital. We are proud to be your community blood center! Before you donate\, be sure to eat well and drink plenty of non-caffeinated beverages. Bring photo ID.
X-ALT-DESC;FMTTYPE=text/html:Give Blood Get Beer is a theme for a series of Cascade Regional Blood Services blood drives that enables local restaurants and pubs to support our community?s blood supply in a unique and fun way. All registered blood donors will receive a pre-paid coupon for a pint of beer\, redeemable beginning the day following the drive! Cascade Regional Blood Services is committed to serving the residents of East Pierce County. For over 65 years CRBS has provided blood products and services to Pierce and South King County hospitals and clinics\, including MultiCare Good Samaritan Hospital. We are proud to be your community blood center! Before you donate\, be sure to eat well and drink plenty of non-caffeinated beverages. Bring photo ID.
LOCATION:Sparks Firehouse Deli
UID:e.101.6732
SEQUENCE:3
DTSTAMP:20260424T105049Z
URL:https://business.puyallupsumnerchamber.com/events/details/give-blood-get-beer-at-sparks-fireshouse-delit-07-26-2015-6732
END:VEVENT

END:VCALENDAR
