BEGIN:VCALENDAR
VERSION:2.0
PRODID:-//ChamberMaster//Event Calendar 2.0//EN
METHOD:PUBLISH
X-PUBLISHED-TTL:P3D
REFRESH-INTERVAL:P3D
CALSCALE:GREGORIAN
BEGIN:VEVENT
DTSTART:20160522T210000Z
DTEND:20160523T010000Z
X-MICROSOFT-CDO-ALLDAYEVENT:FALSE
SUMMARY:Grand Open House at Rock Creek Gardens
DESCRIPTION:Come join us for our annual Rock Creek Gardens Grand Open House event on Sunday\, May 22nd 2016!\n\n\n\nPlease RSVP via email\, calling our office or reserving tickets at http://bit.ly/1VnZQkz\n\n\n\nevents@rcgvenue.com\n\n253-435-0243
X-ALT-DESC;FMTTYPE=text/html:<span style="color:rgb(78\, 86\, 101)\; font-family:helvetica\,arial\,sans-serif\; font-size:14px">Come join us for our annual Rock Creek Gardens Grand Open House event on Sunday\, May 22nd 2016!</span><br />\n<br />\n<span style="color:rgb(78\, 86\, 101)\; font-family:helvetica\,arial\,sans-serif\; font-size:14px">Please RSVP via email\, calling our office or reserving tickets at </span>http://bit.ly/1VnZQkz<br />\n<br />\n<span style="color:rgb(78\, 86\, 101)\; font-family:helvetica\,arial\,sans-serif\; font-size:14px">events@rcgvenue.com</span><br />\n<span style="color:rgb(78\, 86\, 101)\; font-family:helvetica\,arial\,sans-serif\; font-size:14px">253-435-0243</span>
LOCATION:11421 164th Street East\, Puyallup\, WA 98374
UID:e.101.8027
SEQUENCE:3
DTSTAMP:20260423T215641Z
URL:https://business.puyallupsumnerchamber.com/events/details/grand-open-house-at-rock-creek-gardens-05-22-2016-8027
END:VEVENT

END:VCALENDAR
