BEGIN:VCALENDAR
VERSION:2.0
PRODID:-//ChamberMaster//Event Calendar 2.0//EN
METHOD:PUBLISH
X-PUBLISHED-TTL:P3D
REFRESH-INTERVAL:P3D
CALSCALE:GREGORIAN
BEGIN:VEVENT
DTSTART:20141031T010000Z
DTEND:20141031T030000Z
X-MICROSOFT-CDO-ALLDAYEVENT:FALSE
SUMMARY:Halloween Trunk-or-Treat
DESCRIPTION:Bring your cute lil' punkins down to Sunrise Village for a fun evening of trick-or-treating out of decorated classic car trunks.\n\n*Help us pick the best decorated trunk!\n\n*Drop by participating merchants for more trick-or-treating fun! \n\n\n\nThis event is weather dependent. If the weather is iffy on October 30th please check www.mysunrisevillage.com as we will keep it up to date and make the decision very clear! You may also call the management office at 253.904.8923
X-ALT-DESC;FMTTYPE=text/html:<br />\n<strong>Bring your cute lil&#39\; punkins down to Sunrise Village for a fun evening of trick-or-treating out of decorated classic car trunks</strong>.<br />\n*Help us pick the best decorated trunk!<br />\n*Drop by participating merchants for more trick-or-treating fun!&nbsp\;<br />\n<br />\nThis event is weather dependent. If the weather is iffy on October 30th please check&nbsp\;<a href="http://www.mysunrisevillage.com">www.mysunrisevillage.com</a> as we will keep it up to date and make the decision very clear! You may also call the management office at 253.904.8923<br />\n&nbsp\;
LOCATION:Sunrise Village: South Hill at 156th & Meridian
UID:e.101.6513
SEQUENCE:3
DTSTAMP:20260425T012943Z
URL:https://business.puyallupsumnerchamber.com/events/details/halloween-trunk-or-treat-10-30-2014-6513
END:VEVENT

END:VCALENDAR
