BEGIN:VCALENDAR
VERSION:2.0
PRODID:-//ChamberMaster//Event Calendar 2.0//EN
METHOD:PUBLISH
X-PUBLISHED-TTL:P3D
REFRESH-INTERVAL:P3D
CALSCALE:GREGORIAN
BEGIN:VEVENT
DTSTART:20151031T010000Z
DTEND:20151031T030000Z
X-MICROSOFT-CDO-ALLDAYEVENT:FALSE
SUMMARY:Halloween Trunk - or - Treat at Sunrise Village
DESCRIPTION:Bring your cute lil' punkins to our Trunk-or-Treat\n\nfor lots of trick-or-treating fun!\n\n\n\nFeaturing decorated classic cars (with candy in their trunks) \n\nand lots of candy at the participating businesses on 156th Street E. \n \n\nFriday October 30th\, 2015 6-8PM\n\n\n\n\n\n**If you have a classic car and would like to participate please visit here \n\nfor more information.
X-ALT-DESC;FMTTYPE=text/html:<h2 style="text-align: center\;"><span style="color:rgb(239\, 123\, 0)">Bring your cute lil&#39\; punkins to our Trunk-or-Treat</span></h2>\n\n<h2 style="text-align: center\;"><span style="color:rgb(239\, 123\, 0)">for lots of trick-or-treating fun!</span></h2>\n\n<h2 style="text-align: center\;"><br />\n<span style="color:rgb(0\, 130\, 67)">Featuring decorated classic cars (with candy in their trunks)&nbsp\;</span></h2>\n\n<h2 style="text-align: center\;"><span style="color:rgb(0\, 130\, 67)">and lots of candy at the participating businesses on 156th Street E.&nbsp\;</span></h2>\n&nbsp\;\n\n<div style="text-align: center\;"><span style="font-size:22px"><span style="color:rgb(0\, 0\, 0)"><strong>Friday October 30th\, 2015 6-8PM</strong></span></span><br />\n<br />\n<br />\n<span style="font-size:18px"><em><span style="color:rgb(239\, 123\, 0)">**If you have a classic car and would like to participate please visit <a href="http://www.mysunrisevillage.com/#!halloween-trunk-or-treat/c1plx">here</a>&nbsp\;<br />\nfor more information.</span></em></span><br />\n&nbsp\;</div>\n
LOCATION:Meridian Sunrise Village
UID:e.101.6781
SEQUENCE:3
DTSTAMP:20260424T063540Z
URL:https://business.puyallupsumnerchamber.com/events/details/halloween-trunk-or-treat-at-sunrise-village-10-30-2015-6781
END:VEVENT

END:VCALENDAR
