BEGIN:VCALENDAR
VERSION:2.0
PRODID:-//ChamberMaster//Event Calendar 2.0//EN
METHOD:PUBLISH
X-PUBLISHED-TTL:P3D
REFRESH-INTERVAL:P3D
CALSCALE:GREGORIAN
BEGIN:VEVENT
DTSTART;VALUE=DATE:20150621
DTEND;VALUE=DATE:20150622
TRANSP:TRANSPARENT
X-MICROSOFT-CDO-ALLDAYEVENT:TRUE
SUMMARY:Happy Fathers Day
DESCRIPTION:Get Dad something that is the perfect size and color with no assembly required! Give him a South Hill Mall Gift Card! Available at the Customer Service Center\, call 1.800.615.3535 or visit www.MallGiftCards.net
X-ALT-DESC;FMTTYPE=text/html:Get Dad something that is the perfect size and color with no assembly required! Give him a South Hill Mall Gift Card! Available at the Customer Service Center\, call 1.800.615.3535 or visit www.MallGiftCards.net
LOCATION:
UID:e.101.6576
SEQUENCE:3
DTSTAMP:20260424T120912Z
URL:https://business.puyallupsumnerchamber.com/events/details/happy-fathers-day-06-21-2015-6576
END:VEVENT

END:VCALENDAR
