BEGIN:VCALENDAR
VERSION:2.0
PRODID:-//ChamberMaster//Event Calendar 2.0//EN
METHOD:PUBLISH
X-PUBLISHED-TTL:P3D
REFRESH-INTERVAL:P3D
CALSCALE:GREGORIAN
BEGIN:VEVENT
DTSTART;VALUE=DATE:20150127
DTEND;VALUE=DATE:20150128
TRANSP:TRANSPARENT
X-MICROSOFT-CDO-ALLDAYEVENT:TRUE
SUMMARY:Happy Hour Facial Party for Chamber members
DESCRIPTION:A fun night with the Chamber ladies ~ Wine\, Appetizers\, and Facials by Master Esthetician Cheryl Miller @ The Zen Lounge.
X-ALT-DESC;FMTTYPE=text/html:A fun night with the Chamber ladies ~ Wine\, Appetizers\, and Facials by Master Esthetician Cheryl Miller @ The Zen Lounge.
LOCATION:The Zen Lounge ~ 2825 E. Main\, Puyallup (Between Toscano's and Safeway.
UID:e.101.6557
SEQUENCE:3
DTSTAMP:20260424T203921Z
URL:https://business.puyallupsumnerchamber.com/events/details/happy-hour-facial-party-for-chamber-members-01-27-2015-6557
END:VEVENT

END:VCALENDAR
