BEGIN:VCALENDAR
VERSION:2.0
PRODID:-//ChamberMaster//Event Calendar 2.0//EN
METHOD:PUBLISH
X-PUBLISHED-TTL:P3D
REFRESH-INTERVAL:P3D
CALSCALE:GREGORIAN
BEGIN:VEVENT
DTSTART:20150128T020000Z
DTEND:20150128T033000Z
X-MICROSOFT-CDO-ALLDAYEVENT:FALSE
SUMMARY:Happy Hour @ The Zen Lounge
DESCRIPTION:Happy Hour @ The Zen Lounge\n\nFinish your day with a complimentary facial using all natural products.\n\nLearn the Secrets to Beautiful Skin\n\nand enjoy Wine and Hors d'oeuvres
X-ALT-DESC;FMTTYPE=text/html:<span style="color:#008080\;"><strong>Happy Hour @ The Zen Lounge<br />\nFinish your day with a complimentary facial using all natural products.<br />\nLearn the Secrets to Beautiful Skin<br />\nand enjoy Wine and Hors d&#39\;oeuvres</strong></span><br />\n&nbsp\;
LOCATION:The Zen Lounge 2825 E Main\, Puyallup
UID:e.101.6546
SEQUENCE:3
DTSTAMP:20260424T202501Z
URL:https://business.puyallupsumnerchamber.com/events/details/happy-hour-the-zen-lounge-01-27-2015-6546
END:VEVENT

END:VCALENDAR
