BEGIN:VCALENDAR
VERSION:2.0
PRODID:-//ChamberMaster//Event Calendar 2.0//EN
METHOD:PUBLISH
X-PUBLISHED-TTL:P3D
REFRESH-INTERVAL:P3D
CALSCALE:GREGORIAN
BEGIN:VEVENT
DTSTART;VALUE=DATE:20150510
DTEND;VALUE=DATE:20150511
TRANSP:TRANSPARENT
X-MICROSOFT-CDO-ALLDAYEVENT:TRUE
SUMMARY:Happy Mothers Day
DESCRIPTION:A visit to Gene Juarez\, Kay Jewelers\, Charming Charlie\, AVEDA\, Macy's or ULTA will make finding that perfect gift for Mom east. Can't find what you're looking for  Take a trip through the Puyallup Food Bank's Candy Buffet. Go to SouthHillMall.com for Candy Buffet dates and time.
X-ALT-DESC;FMTTYPE=text/html:A visit to Gene Juarez\, Kay Jewelers\, Charming Charlie\, AVEDA\, Macy&#39\;s or ULTA will make finding that perfect gift for Mom east. Can&#39\;t find what you&#39\;re looking for&gt\; Take a trip through the Puyallup Food Bank&#39\;s Candy Buffet. Go to <a href="http://www.southhillmall.com">SouthHillMall.com</a> for Candy Buffet dates and time.
LOCATION:
UID:e.101.6573
SEQUENCE:3
DTSTAMP:20260424T135457Z
URL:https://business.puyallupsumnerchamber.com/events/details/happy-mothers-day-05-10-2015-6573
END:VEVENT

END:VCALENDAR
