BEGIN:VCALENDAR
VERSION:2.0
PRODID:-//ChamberMaster//Event Calendar 2.0//EN
METHOD:PUBLISH
X-PUBLISHED-TTL:P3D
REFRESH-INTERVAL:P3D
CALSCALE:GREGORIAN
BEGIN:VEVENT
DTSTART:20151109T170000Z
DTEND:20151109T183000Z
X-MICROSOFT-CDO-ALLDAYEVENT:FALSE
SUMMARY:Honoring Veterans With Congressman Heck
DESCRIPTION:Come by and indulge in great conversation as we host 10th District Congressman Denny Heck. Join Congressman Heck and Franklin Place in honoring Veterans.
X-ALT-DESC;FMTTYPE=text/html:<p>Come by and indulge in great conversation as we host 10th District Congressman Denny Heck. Join Congressman Heck and Franklin Place in honoring Veterans.</p>\n
LOCATION:Franklin Place- 5713 Parker Rd E\, Sumner WA 98390
UID:e.101.6799
SEQUENCE:3
DTSTAMP:20260424T050841Z
URL:https://business.puyallupsumnerchamber.com/events/details/honoring-veterans-with-congressman-heck-11-09-2015-6799
END:VEVENT

END:VCALENDAR
