BEGIN:VCALENDAR
VERSION:2.0
PRODID:-//ChamberMaster//Event Calendar 2.0//EN
METHOD:PUBLISH
X-PUBLISHED-TTL:P3D
REFRESH-INTERVAL:P3D
CALSCALE:GREGORIAN
BEGIN:VEVENT
DTSTART:20140922T170000Z
DTEND:20140923T060000Z
X-MICROSOFT-CDO-ALLDAYEVENT:FALSE
SUMMARY:How Durable Powers of Attorney Protect You
DESCRIPTION:Please join Elder Law attorney Bryana M. Cross for a discussion about Durable Powers of Attorney.  She will answer questions\, including:\n\n\n	What is a Durable Power of Attorney?\n	Why is it essential to have?\n	What is Elder Law?\n	What other legal services does she provide?\n	Audience questions\n\nRefreshments Provided!\n\n\n\nAdmission is free.\n\n\n\nHosted by: Silver Creek Retirement & Assisted Living Community\,\n\n17607 91st Ave E\, Puyallup\, WA 98375\n\n\n\nCall Law Offices of Bryana M. Cross for more information:  253-203-3352
X-ALT-DESC;FMTTYPE=text/html:<strong>Please join Elder Law attorney Bryana M. Cross for a discussion about Durable Powers of Attorney. &nbsp\;She will answer questions\, including:</strong>\n\n<ul>\n	<li>What is a Durable Power of Attorney?</li>\n	<li>Why is it essential to have?</li>\n	<li>What is Elder Law?</li>\n	<li>What other legal services does she provide?</li>\n	<li>Audience questions</li>\n</ul>\n<strong>Refreshments Provided!<br />\n<br />\nAdmission is free.<br />\n<br />\n<u>Hosted by</u>:&nbsp\;Silver Creek Retirement &amp\; Assisted Living Community\,<br />\n17607 91st Ave E\, Puyallup\, WA 98375<br />\n<br />\nCall Law Offices of Bryana M. Cross for more information: &nbsp\;253-203-3352</strong>
LOCATION:Hosted by: Silver Creek Retirement & Assisted Living Community 17607 91st Ave E\, Puyallup\, WA 98375
UID:e.101.6505
SEQUENCE:3
DTSTAMP:20260425T032502Z
URL:https://business.puyallupsumnerchamber.com/events/details/how-durable-powers-of-attorney-protect-you-09-22-2014-6505
END:VEVENT

END:VCALENDAR
