BEGIN:VCALENDAR
VERSION:2.0
PRODID:-//ChamberMaster//Event Calendar 2.0//EN
METHOD:PUBLISH
X-PUBLISHED-TTL:P3D
REFRESH-INTERVAL:P3D
CALSCALE:GREGORIAN
BEGIN:VEVENT
DTSTART:20150623T013000Z
DTEND:20150623T023000Z
X-MICROSOFT-CDO-ALLDAYEVENT:FALSE
SUMMARY:Intro to Essential Oils Class
DESCRIPTION:Join us Monday evenings in June for an Intro to Essential Oils class\, taught by Mark Harp! This class is perfect for anyone who is new to essential oils\, or those just wanting to expand their basic knowledge of essential oils for health and wellness. \n\n\n\nEssential oils can be used to:\n\n\n\nrelieve stress & anxiety\n\nsupport your digestion\n\nstrengthen your immune system\n\nassist with discomfort and achy joints\n\nremove impurities from the air\n\n\n\nAlso\, in this class we will introduce you to the 3 Steps to Optimal Health and Prevention\, which are:\n\n\n\nProper Nutrition\n\nCleansing and Digestion\n\nAvoiding Toxins
X-ALT-DESC;FMTTYPE=text/html:Join us Monday evenings in June for an Intro to Essential Oils class\, taught by Mark Harp! This class is perfect for anyone who is new to essential oils\, or those just wanting to expand their basic knowledge of essential oils for health and wellness.&nbsp\;<br />\n<br />\nEssential oils can be used to:<br />\n<br />\nrelieve stress &amp\; anxiety<br />\nsupport your digestion<br />\nstrengthen your immune system<br />\nassist with discomfort and achy joints<br />\nremove impurities from the air<br />\n<br />\nAlso\, in this class we will introduce you to the 3 Steps to Optimal Health and Prevention\, which are:<br />\n<br />\nProper Nutrition<br />\nCleansing and Digestion<br />\nAvoiding Toxins
LOCATION:Windmill Gardens/Sumner
UID:e.101.6723
SEQUENCE:3
DTSTAMP:20260424T120905Z
URL:https://business.puyallupsumnerchamber.com/events/details/intro-to-essential-oils-class-06-22-2015-6723
END:VEVENT

END:VCALENDAR
