BEGIN:VCALENDAR
VERSION:2.0
PRODID:-//ChamberMaster//Event Calendar 2.0//EN
METHOD:PUBLISH
X-PUBLISHED-TTL:P3D
REFRESH-INTERVAL:P3D
CALSCALE:GREGORIAN
BEGIN:VEVENT
DTSTART:20160716T153000Z
DTEND:20160716T170000Z
X-MICROSOFT-CDO-ALLDAYEVENT:FALSE
SUMMARY:Kilometers for Kids 2016
DESCRIPTION:Make plans to join us for the 4th Annual Kilometers for Kids Fun Run!  Run\, jog\, or walk to help support children and youth in our community.   Proceeds to support children in low income families through Camp Quest (summer day camp)\, Back to School BBQ (which provides about 800 low income students with school supplies\, backpacks and clothing for the new school year) and KidPower Packs (providing 150 local homeless and low income students with weekend food packs).  Register by June 30th for our lowest rate of the season!
X-ALT-DESC;FMTTYPE=text/html:Make plans to join us for the 4th Annual Kilometers for Kids Fun Run!&nbsp\; Run\, jog\, or walk to help support children and youth in our community.&nbsp\;&nbsp\; Proceeds to support children in low income families through Camp Quest (summer day camp)\, Back to School BBQ (which provides about 800 low income students with school supplies\, backpacks and clothing for the new school year) and KidPower Packs (providing 150 local homeless and low income students with weekend food packs).&nbsp\; Register by June 30th for our lowest rate of the season!
LOCATION:Start and finish at Edgemont Park in Edgewood.
UID:e.101.8394
SEQUENCE:3
DTSTAMP:20260423T170815Z
URL:https://business.puyallupsumnerchamber.com/events/details/kilometers-for-kids-2016-07-16-2016-8394
END:VEVENT

END:VCALENDAR
