BEGIN:VCALENDAR
VERSION:2.0
PRODID:-//ChamberMaster//Event Calendar 2.0//EN
METHOD:PUBLISH
X-PUBLISHED-TTL:P3D
REFRESH-INTERVAL:P3D
CALSCALE:GREGORIAN
BEGIN:VEVENT
DTSTART:20140920T010000Z
DTEND:20140920T040000Z
X-MICROSOFT-CDO-ALLDAYEVENT:FALSE
SUMMARY:Ladies Night Out
DESCRIPTION:Get your girlfriends together\, celebrate a birthday\, do some mother/daughter bonding\, enjoy an evening now that the kids are back in school\, or just because...\n\n\n\nOur Ladies Night Out event is exclusively for ticket holders and will provide an entire evening filled with fun experiences! The $30 "passport" will lead you around Sunrise Village where you will enjoy light bites from our restaurants\, wine tastings in our wine garden\, spa and pampering treatments\, unique shopping experiences and lots of fun... All for a good cause.\n\n\n\nThis event will benefit the Miss Pierce County Scholarship Program. They provide scholarships that help finance the education of thousands of young women every year. They create opportunities for young women's voices to be heard across the nation on important social issues. And they help young women gain the personal and professional skills they need to succeed in life.\n\n\n\nCheck back often to find out details on the services\, etc that you'll get to experience! We're still coordinating everything :)\n\n\n\nTickets may be purchased on our website\, www.mysunrisevillage.com\, under the events tab or at the event. Wine glasses and a goodie bag to the first 100 ladies who purchase a ticket!\n\n\n\nYou will receive an email from us after you've purchased your ticket(s). Your name will be on our guest list\, please check in at the event by Emerald City Smoothie. \n\nSee you on September 19th!
X-ALT-DESC;FMTTYPE=text/html:<br />\n<strong>Get your girlfriends together\, celebrate a birthday\, do some mother/daughter bonding\, enjoy an evening now that the kids are back in school\, or just because...</strong><br />\n<br />\nOur&nbsp\;Ladies Night Out event&nbsp\;is exclusively for ticket holders and will provide an entire evening filled with fun experiences! The $30 &quot\;passport&quot\; will lead you around Sunrise Village where you will enjoy&nbsp\;light bites&nbsp\;from our restaurants\, wine tastings in our wine garden\,&nbsp\;spa&nbsp\;and&nbsp\;pampering treatments\, unique&nbsp\;shopping&nbsp\;experiences and lots of&nbsp\;fun... All for a good cause.<br />\n<br />\nThis event will benefit the&nbsp\;Miss Pierce County Scholarship Program.&nbsp\;They provide scholarships that help finance the education of thousands of young women every year. They create opportunities for young women&#39\;s voices to be heard across the nation on important social issues. And they help young women gain the personal and professional skills they need to succeed in life.<br />\n<br />\nCheck back often to find out details on the services\, etc that you&#39\;ll get to experience! We&#39\;re still coordinating everything :)<br />\n<br />\nTickets may be purchased&nbsp\;on our website\,&nbsp\;<a href="http://www.mysunrisevillage.com">www.mysunrisevillage.com</a>\, under the events tab&nbsp\;or at the event.&nbsp\;Wine glasses and a goodie bag to the first 100 ladies who purchase a ticket!<br />\n<br />\nYou will receive an email from us after you&#39\;ve purchased your ticket(s). Your name will be on our guest list\, please check in at the event by Emerald City Smoothie.&nbsp\;<br />\nSee you on September 19th!<br />\n&nbsp\;
LOCATION:Sunrise Village
UID:e.101.6503
SEQUENCE:3
DTSTAMP:20260425T032204Z
URL:https://business.puyallupsumnerchamber.com/events/details/ladies-night-out-09-19-2014-6503
END:VEVENT

END:VCALENDAR
