BEGIN:VCALENDAR
VERSION:2.0
PRODID:-//ChamberMaster//Event Calendar 2.0//EN
METHOD:PUBLISH
X-PUBLISHED-TTL:P3D
REFRESH-INTERVAL:P3D
CALSCALE:GREGORIAN
BEGIN:VEVENT
DTSTART:20150516T230000Z
DTEND:20150517T033000Z
X-MICROSOFT-CDO-ALLDAYEVENT:FALSE
SUMMARY:Ladies Night Out Shop & Shake
DESCRIPTION:Grab your BFF and head to South Hill Mall for some pampering\, great shopping and line dancing with DeAnna from KMPS. There will be vendors\, goodies bags and lots more\, so saddle up for a night of fun\, Sponsored by Showcase Magazine.
X-ALT-DESC;FMTTYPE=text/html:Grab your BFF and head to South Hill Mall for some pampering\, great shopping and line dancing with DeAnna from KMPS. There will be vendors\, goodies bags and lots more\, so saddle up for a night of fun\, Sponsored by Showcase Magazine.
LOCATION:
UID:e.101.6574
SEQUENCE:3
DTSTAMP:20260424T135758Z
URL:https://business.puyallupsumnerchamber.com/events/details/ladies-night-out-shop-shake-05-16-2015-6574
END:VEVENT

END:VCALENDAR
