BEGIN:VCALENDAR
VERSION:2.0
PRODID:-//ChamberMaster//Event Calendar 2.0//EN
METHOD:PUBLISH
X-PUBLISHED-TTL:P3D
REFRESH-INTERVAL:P3D
CALSCALE:GREGORIAN
BEGIN:VEVENT
DTSTART:20160213T180000Z
DTEND:20160213T190000Z
X-MICROSOFT-CDO-ALLDAYEVENT:FALSE
SUMMARY:Life Planning Seminar
DESCRIPTION:ARE YOU READY FOR YOUR FUTURE?\n\nTHERE IS PEACE IN BEING PREPARED\n\n\n\nJOIN US \n\nsAYURDAY\, FEBRUARY 13\,2016\n\n10:00AM\n\n\n\n1201 MAIN STREET\, SUMNER\,WA 98390
X-ALT-DESC;FMTTYPE=text/html:<div style="text-align: center\;"><span style="font-family:verdana"><span style="font-size:16px"><strong>ARE YOU READY FOR YOUR FUTURE?<br />\nTHERE IS PEACE IN BEING PREPARED<br />\n<br />\nJOIN US&nbsp\;<br />\nsAYURDAY\, FEBRUARY 13\,2016<br />\n10:00AM<br />\n<br />\n1201 MAIN STREET\, SUMNER\,WA 98390</strong></span></span></div>\n
LOCATION:STRATEGEM 1201 West Main Sumner\, WA
UID:e.101.7873
SEQUENCE:3
DTSTAMP:20260424T005412Z
URL:https://business.puyallupsumnerchamber.com/events/details/life-planning-seminar-02-13-2016-7873
END:VEVENT

END:VCALENDAR
