BEGIN:VCALENDAR
VERSION:2.0
PRODID:-//ChamberMaster//Event Calendar 2.0//EN
METHOD:PUBLISH
X-PUBLISHED-TTL:P3D
REFRESH-INTERVAL:P3D
CALSCALE:GREGORIAN
BEGIN:VEVENT
DTSTART:20141016T220000Z
DTEND:20141017T000000Z
X-MICROSOFT-CDO-ALLDAYEVENT:FALSE
SUMMARY:Linden Grove Open House
DESCRIPTION:Stop by the Center for an afternoon of tasty appetizers\, a glass of wine and a chance to win a raffle. Tour our STAR unit and acquaint yourself with the new look at award-winning rehab in a luzurious setting.
X-ALT-DESC;FMTTYPE=text/html:Stop by the Center for an afternoon of tasty appetizers\, a glass of wine and a chance to win a raffle. Tour our STAR unit and acquaint yourself with the new look at award-winning rehab in a luzurious setting.
LOCATION:409 29th Street NE\, Puyallup\, WA
UID:e.101.6516
SEQUENCE:3
DTSTAMP:20260425T025839Z
URL:https://business.puyallupsumnerchamber.com/events/details/linden-grove-open-house-10-16-2014-6516
END:VEVENT

END:VCALENDAR
