BEGIN:VCALENDAR
VERSION:2.0
PRODID:-//ChamberMaster//Event Calendar 2.0//EN
METHOD:PUBLISH
X-PUBLISHED-TTL:P3D
REFRESH-INTERVAL:P3D
CALSCALE:GREGORIAN
BEGIN:VEVENT
DTSTART:20150614T040000Z
DTEND:20150614T080000Z
X-MICROSOFT-CDO-ALLDAYEVENT:FALSE
SUMMARY:LIVE MUSIC
DESCRIPTION:The Fabulous Johnson return to Scotty's for fun filled night with music from the 70"s and some from the 80"s. This will be a standing room only night\, so come early and have a bite to eat and enjoy your favorite classic tunes...
X-ALT-DESC;FMTTYPE=text/html:The Fabulous Johnson return to Scotty&#39\;s for fun filled night with music from the 70&quot\;s and some from the 80&quot\;s. This will be a standing room only night\, so come early and have a bite to eat and enjoy your favorite classic tunes...
LOCATION:215 N Meridian St Puyallup WA 98371
UID:e.101.6722
SEQUENCE:3
DTSTAMP:20260424T134401Z
URL:https://business.puyallupsumnerchamber.com/events/details/live-music-06-13-2015-6722
END:VEVENT

END:VCALENDAR
